BEGIN:VCALENDAR
VERSION:2.0
PRODID:-//CPNassau - ECPv6.6.4.2//NONSGML v1.0//EN
CALSCALE:GREGORIAN
METHOD:PUBLISH
X-WR-CALNAME:CPNassau
X-ORIGINAL-URL:https://www.cpnassau.org
X-WR-CALDESC:Events for CPNassau
REFRESH-INTERVAL;VALUE=DURATION:PT1H
X-Robots-Tag:noindex
X-PUBLISHED-TTL:PT1H
BEGIN:VTIMEZONE
TZID:UTC
BEGIN:STANDARD
TZOFFSETFROM:+0000
TZOFFSETTO:+0000
TZNAME:UTC
DTSTART:20250101T000000
END:STANDARD
END:VTIMEZONE
BEGIN:VEVENT
DTSTART;TZID=UTC:20251017T190000
DTEND;TZID=UTC:20251017T230000
DTSTAMP:20260424T205709
CREATED:20250925T155726Z
LAST-MODIFIED:20250925T155726Z
UID:8945-1760727600-1760742000@www.cpnassau.org
SUMMARY:Evening of Entertainment\, Dancing & Fun!
DESCRIPTION:FOR MORE INFORMATION PLEASE CONTACT:\nANGELINA DUNLOP –  516-884-8803\nGERI VON THADEN –  516-388-1019
URL:https://www.cpnassau.org/event/evening-of-entertainment-dancing-fun/
LOCATION:Palattduetsch Restaurant\, 1132 Hempstead Turnpike\, Franklin Square\, NY\, 11010\, United States
ATTACH;FMTTYPE=image/jpeg:https://www.cpnassau.org/wp-content/uploads/2025/09/Picture1.jpg
END:VEVENT
BEGIN:VEVENT
DTSTART;TZID=UTC:20251019T150000
DTEND;TZID=UTC:20251019T170000
DTSTAMP:20260424T205709
CREATED:20250923T180650Z
LAST-MODIFIED:20250923T180650Z
UID:8939-1760886000-1760893200@www.cpnassau.org
SUMMARY:"Sinatra & Stories" Featuring Tony Danza
DESCRIPTION:
URL:https://www.cpnassau.org/event/sinatra-stories-featuring-tony-danza/
LOCATION:The Tilles Center\, 720 Northern Blvd.\, Greenvale\, New York\, 11548\, United States
ATTACH;FMTTYPE=image/png:https://www.cpnassau.org/wp-content/uploads/2023/11/Popslogo1.png
END:VEVENT
END:VCALENDAR