BEGIN:VCALENDAR
VERSION:2.0
PRODID:-//CPNassau - ECPv6.6.4.2//NONSGML v1.0//EN
CALSCALE:GREGORIAN
METHOD:PUBLISH
X-ORIGINAL-URL:https://www.cpnassau.org
X-WR-CALDESC:Events for CPNassau
REFRESH-INTERVAL;VALUE=DURATION:PT1H
X-Robots-Tag:noindex
X-PUBLISHED-TTL:PT1H
BEGIN:VTIMEZONE
TZID:UTC
BEGIN:STANDARD
TZOFFSETFROM:+0000
TZOFFSETTO:+0000
TZNAME:UTC
DTSTART:20250101T000000
END:STANDARD
END:VTIMEZONE
BEGIN:VEVENT
DTSTART;TZID=UTC:20250807T070000
DTEND;TZID=UTC:20250807T210000
DTSTAMP:20260422T042452
CREATED:20241203T145044Z
LAST-MODIFIED:20250729T163755Z
UID:8330-1754550000-1754600400@www.cpnassau.org
SUMMARY:43rd Annual Golf & Tennis Tournament
DESCRIPTION:Our Mulligan Club is working hard for an amazing event!\nJOIN US!\nTHURSDAY\, AUGUST 7\, 2025\nNEW “SHOTGUN” FORMAT!!\n8:00am Shotgun – SOLD OUT!\n12:30pm Shotgun – SOLD OUT!\nTENNIS & PICKLEBALL ARE AVAILABLE!\n\n\n \n\n  \nCONTACT CHYVONNE MONIQUE AT 516-378-2000 X226\nTO MAKE YOUR RESERVATION OR FOR MORE INFORMATION\n\n\nClick here for .pdf of brochure
URL:https://www.cpnassau.org/event/43rd-annual-golf-tennis-tournament/
LOCATION:North Hills Country Club\, 200 Long Island Expy\, Manhasset\, NY\, 11030\, United States
ATTACH;FMTTYPE=image/jpeg:https://www.cpnassau.org/wp-content/uploads/2023/01/Matthews-CPNassau-Golf-Tennis-Tournament-Ad-1024x602-1-e1733237370530.jpg
END:VEVENT
END:VCALENDAR