BEGIN:VCALENDAR
VERSION:2.0
PRODID:-//CPNassau - ECPv6.6.4.2//NONSGML v1.0//EN
CALSCALE:GREGORIAN
METHOD:PUBLISH
X-WR-CALNAME:CPNassau
X-ORIGINAL-URL:https://www.cpnassau.org
X-WR-CALDESC:Events for CPNassau
REFRESH-INTERVAL;VALUE=DURATION:PT1H
X-Robots-Tag:noindex
X-PUBLISHED-TTL:PT1H
BEGIN:VTIMEZONE
TZID:UTC
BEGIN:STANDARD
TZOFFSETFROM:+0000
TZOFFSETTO:+0000
TZNAME:UTC
DTSTART:20250101T000000
END:STANDARD
END:VTIMEZONE
BEGIN:VEVENT
DTSTART;TZID=UTC:20251207T120000
DTEND;TZID=UTC:20251207T160000
DTSTAMP:20260420T163459
CREATED:20240806T160655Z
LAST-MODIFIED:20251030T183822Z
UID:8004-1765108800-1765123200@www.cpnassau.org
SUMMARY:2025 Sugar Plum Ball & Galactic Gala
DESCRIPTION:CLICK HERE FOR MORE INFORMATION ABOUT OUR \n2025 SUGAR PLUM BALL & GALACTIC GALA!\n\n 
URL:https://www.cpnassau.org/event/2024-sugar-plum-ball-galactic-gala-2/
LOCATION:The Fox Hollow\, 7725 Jericho Turnpike\, Woodbury\, NY\, 11797\, United States
CATEGORIES:Sugar Plum Ball & Galactic Gala
ATTACH;FMTTYPE=image/png:https://www.cpnassau.org/wp-content/uploads/2024/01/SPB-Header.png
END:VEVENT
END:VCALENDAR