BEGIN:VCALENDAR
VERSION:2.0
PRODID:-//CPNassau - ECPv6.6.4.2//NONSGML v1.0//EN
CALSCALE:GREGORIAN
METHOD:PUBLISH
X-WR-CALNAME:CPNassau
X-ORIGINAL-URL:https://www.cpnassau.org
X-WR-CALDESC:Events for CPNassau
REFRESH-INTERVAL;VALUE=DURATION:PT1H
X-Robots-Tag:noindex
X-PUBLISHED-TTL:PT1H
BEGIN:VTIMEZONE
TZID:UTC
BEGIN:STANDARD
TZOFFSETFROM:+0000
TZOFFSETTO:+0000
TZNAME:UTC
DTSTART:20220101T000000
END:STANDARD
END:VTIMEZONE
BEGIN:VEVENT
DTSTART;TZID=UTC:20221211T120000
DTEND;TZID=UTC:20221211T160000
DTSTAMP:20260422T013456
CREATED:20220930T140538Z
LAST-MODIFIED:20220930T143801Z
UID:5001-1670760000-1670774400@www.cpnassau.org
SUMMARY:Sugar Plum Ball and Galactic Gala
DESCRIPTION:A fun event for girls and boys!\nA unique party featuring food\, fun\, and some of your favorite characters including Princesses\, Fairies\, and characters from a Galaxy Far\, Far Away. Kids (ages 4 – 12)\, accompanied by their adult guest (Mom\, Dad\, Grandparent\, Aunt\, or Uncle)\, will enjoy a delicious sit-down lunch\, DJ\, Magic Show\, Dancing\, Raffles\, Games\, Activities\, Photo Ops\, and FUN for all! \nView Flyer >>
URL:https://www.cpnassau.org/event/sugarplumball/
LOCATION:Chateau Briand\, 440 Old Country Rd\, Carle Place\, NY\, 11514\, United States
CATEGORIES:2022 Events,Sugar Plum Ball & Galactic Gala
ATTACH;FMTTYPE=image/jpeg:https://www.cpnassau.org/wp-content/uploads/2022/09/SPB-GG-LOGO-copy.jpg
END:VEVENT
END:VCALENDAR