BEGIN:VCALENDAR
VERSION:2.0
PRODID:-//CPNassau - ECPv6.6.4.2//NONSGML v1.0//EN
CALSCALE:GREGORIAN
METHOD:PUBLISH
X-ORIGINAL-URL:https://www.cpnassau.org
X-WR-CALDESC:Events for CPNassau
REFRESH-INTERVAL;VALUE=DURATION:PT1H
X-Robots-Tag:noindex
X-PUBLISHED-TTL:PT1H
BEGIN:VTIMEZONE
TZID:UTC
BEGIN:STANDARD
TZOFFSETFROM:+0000
TZOFFSETTO:+0000
TZNAME:UTC
DTSTART:20230101T000000
END:STANDARD
END:VTIMEZONE
BEGIN:VEVENT
DTSTART;TZID=UTC:20231210T120000
DTEND;TZID=UTC:20231210T160000
DTSTAMP:20260422T130155
CREATED:20230912T200158Z
LAST-MODIFIED:20240109T153237Z
UID:6454-1702209600-1702224000@www.cpnassau.org
SUMMARY:Sugar Plum Ball & Galactic Gala
DESCRIPTION:A fun event for girls and boys\, Sugar Plum Ball & Galactic Gala is a unique party featuring food\, fun and some of your favorite characters including Princesses\, Fairies\, and characters from a Galaxy Far\, Far Away. \nKids (ages 4 – 12)\, accompanied by their adult guest (Mom\, Dad\, Grand parent\, Aunt\, or Uncle)\, will enjoy a delicious sit-down lunch\, DJ\, Magic Show\, Dancing\, Raffles\, Games\, Activities\, Photo Ops and FUN for all! \nSponsored by Jovia Financial Credit Union
URL:https://www.cpnassau.org/event/sugar-plum-ball-galactic-gala/
LOCATION:The Fox Hollow\, 7725 Jericho Turnpike\, Woodbury\, NY\, 11797\, United States
CATEGORIES:2023 Events,Sugar Plum Ball & Galactic Gala
ATTACH;FMTTYPE=image/jpeg:https://www.cpnassau.org/wp-content/uploads/2023/09/SPB-GG-Invite-2023.jpg
END:VEVENT
BEGIN:VEVENT
DTSTART;TZID=UTC:20231119T083000
DTEND;TZID=UTC:20231119T110000
DTSTAMP:20260422T130155
CREATED:20230125T222401Z
LAST-MODIFIED:20231101T162052Z
UID:5566-1700382600-1700391600@www.cpnassau.org
SUMMARY:5K Walk\, Run\, Roll\, Stroll
DESCRIPTION:REGISTER HERE
URL:https://www.cpnassau.org/event/5k-run-walk-roll-stroll-2/
LOCATION:Eisenhower Park\, 1899 Park Boulevard\, Westbury\, NY\, 11590\, United States
CATEGORIES:2023 Events,5K
ATTACH;FMTTYPE=image/jpeg:https://www.cpnassau.org/wp-content/uploads/2023/01/2023-5k-logo.jpg
ORGANIZER;CN="Patricia Quinn":MAILTO:pquinn@cpnassau.org
END:VEVENT
BEGIN:VEVENT
DTSTART;TZID=UTC:20231110T190000
DTEND;TZID=UTC:20231111T003000
DTSTAMP:20260422T130155
CREATED:20230125T221809Z
LAST-MODIFIED:20230616T170958Z
UID:5561-1699642800-1699662600@www.cpnassau.org
SUMMARY:Forget-Me-Not Ball
DESCRIPTION:
URL:https://www.cpnassau.org/event/forgetmenot/
LOCATION:Westbury Manor\, 1100 Jericho Turnpike\, Westbury\, NY\, 11590\, United States
CATEGORIES:2023 Events,Forget-Me-Not Ball
ATTACH;FMTTYPE=image/jpeg:https://www.cpnassau.org/wp-content/uploads/2023/01/0052-ForgetMeNot-FeatImage.jpg
END:VEVENT
BEGIN:VEVENT
DTSTART;VALUE=DATE:20231101
DTEND;VALUE=DATE:20231123
DTSTAMP:20260422T130155
CREATED:20231102T133849Z
LAST-MODIFIED:20231102T133849Z
UID:7043-1698796800-1700697599@www.cpnassau.org
SUMMARY:Turkey and Trimmings (TNT)
DESCRIPTION:Turkey and Trimmings  (TNT) is a annual campaign organized and run by staff here to raise funds to give Thanksgiving meals to families in need. Each department comes up with a creative plan to raise funds!
URL:https://www.cpnassau.org/event/turkey-and-trimmings-tnt/
CATEGORIES:2023 Events
ATTACH;FMTTYPE=image/png:https://www.cpnassau.org/wp-content/uploads/2023/11/Screenshot-2023-11-01-at-11.50.36-AM.png
END:VEVENT
BEGIN:VEVENT
DTSTART;VALUE=DATE:20230803
DTEND;VALUE=DATE:20230804
DTSTAMP:20260422T130155
CREATED:20230125T221047Z
LAST-MODIFIED:20230503T172355Z
UID:5557-1691020800-1691107199@www.cpnassau.org
SUMMARY:Golf & Tennis Tournament
DESCRIPTION:
URL:https://www.cpnassau.org/event/golftennistournament/
LOCATION:North Hills Country Club\, 200 Long Island Expy\, Manhasset\, NY\, 11030\, United States
CATEGORIES:2023 Events,Golf & Tennis Tournament
ATTACH;FMTTYPE=image/jpeg:https://www.cpnassau.org/wp-content/uploads/2023/01/Matthews-CPNassau-Golf-Tennis-Tournament-Ad-1024x602-1-e1733237370530.jpg
END:VEVENT
BEGIN:VEVENT
DTSTART;TZID=UTC:20230719T180000
DTEND;TZID=UTC:20230719T220000
DTSTAMP:20260422T130155
CREATED:20230104T190751Z
LAST-MODIFIED:20240118T172656Z
UID:5436-1689789600-1689804000@www.cpnassau.org
SUMMARY:Casino Royale
DESCRIPTION:Registration Form Coming Soon\n			\n			\n				\n				\n				\n				\n				\n				\n				\n				\n				\n				\n					\n					\n						View Invitation\n						View our event invitation here. \n					\n				\n			\n				\n				\n				\n				\n				\n					\n					\n						View Sponsorship Opportunities\n						View our sponsorship opportunities and levels here.
URL:https://www.cpnassau.org/event/casinoroyale2023/
LOCATION:Westbury Manor\, 1100 Jericho Turnpike\, Westbury\, NY\, 11590\, United States
CATEGORIES:2023 Events,Casino Royale
END:VEVENT
END:VCALENDAR